Workbook
Name _Toc69470357: DGD!#REF!
Name _Toc69470359: PZI!#REF!
Name _Toc69470360: PID!#REF!

Sheet REKAPITULACIJA
A1: PONUDBENI PREDRAČUN (OBR-6b) IN POVZETEK PREDRAČUNA (REKAPITULACIJA)
A3: PONUDNIK:
A8: PONUDBA ŠT.:
A11: OBJEKT: | C11: Projektna dokumentacija za RP Nazarje
A14: NAROČNIK: | C14: ELEKTRO CELJE d.d.
C15: VRUNČEVA 2A
C16: 3000 CELJE
A19: REKAPITULACIJA
A21: 1. | B21: IDP | H21: =IDP!C8 -> 0
A22: 2. | B22: IZP | H22: =IZP!C7 -> 0
A23: 3. | B23: DGD | H23: =DGD!C25 -> 0
A24: 4. | B24: DZR | H24: =DZR!C15 -> 0
A25: 5. | B25: PZI | H25: =PZI!C22 -> 0
A26: 6. | B26: PID | H26: =PID!C27 -> 0
A27: 7. | B27: NADZOR | H27: =NADZOR!C7 -> 0
A28: SKUPAJ: | H28: =SUM(H21:H27) -> 0
A30: DDV (22 %) | H30: =H28*0.22 -> 0
A32: SKUPAJ PREDRAČUNSKA VREDNOST: | H32: =H28*1.22 -> 0
A35: ='TERMINSKI PLAN'!A24 -> Planiran začetek del: | C35: ='TERMINSKI PLAN'!B24 -> 44493
A36: Planiran zaključek del: | C36: ='TERMINSKI PLAN'!B25 -> 45230
A37: Rok plačila 30 dan po izstavitvi situacije na oz. po zaključku objekta.
A40: Kraj, dne | D40: Žig: | G40: Direktor:

Sheet IDP
A1: PONUDBENI PREDRAČUN (OBR-6b)
A3: Faza projekta | B3: Idejni projekt (IDP)
A5: Mapa števila | B5: Naslov mape | C5: Cene (EUR)
A6: 0 | B6: Vodilna mapa | C6: 0
A7: 1 | B7: Načrt arhitekture | C7: 0
B8: SKUPAJ | C8: =SUM(C6:C7) -> 0

Sheet IZP
A1: PONUDBENI PREDRAČUN (OBR-6b)
A3: Faza projekta | B3: Idejna zasnova za pridobitev projektnih in drugih pogojev (IZP)
A5: Mapa števila | B5: Naslov mape | C5: Cene (EUR)
A6: 0 | B6: Vodilna mapa | C6: 0
B7: SKUPAJ | C7: =C6 -> 0

Sheet DGD
A1: PONUDBENI PREDRAČUN (OBR-6b)
A3: Faza projekta | B3: Dokumentacija za pridobitev gradbenega dovoljenja (DGD)
A5: Mapa števila | B5: Naslov mape | C5: Cene (EUR)
A6: 1 | B6: Osnovna mapa z vsebino: | C6: 0
B7: - podatke o udeležencih, gradnji in dokumentaciji,
B8: - izjavo projektanta in vodje projekta,
B9: - splošne podatke o objektih,
B10: - ostale obvezne vsebine,
B11: - tehnično poročilo,
B12: - grafične prikaze (objekt v prostor, arhitektura)
B13: - ostali obvezne priloge (PP, soglasja, elaborati, ocene…).
A15: 2 | B15: Mnenja, ki jih pridobi projektant | C15: 0
A17: 3 | B17: Ostale opriloge: | C17: =SUM(C18:C24) -> 0
B18: - načrt gospodarjenja z gradbenimi odpadki, | C18: 0
B19: - koncept požarne varnosti,
B20: - geološko - geomehansko poročilo raziskave tal v obsegu, ki ga določi geomehanik, | C20: 0
B21: - geodetski posnetek obstoječega stanja, | C21: 0
B22: - elaborat gradbene fizike za področje učinkovite rabe energije v stavbah, | C22: 0
B23: - izkaz energijskih lastnosti stavbe. | C23: 0
B24: - statična presoja obstoječega objekta po rušitvi RP (prehod poslovni objekt hodnik RP) in predlog tehnične rešitve sanacije | C24: 0
B25: SKUPAJ | C25: =SUM(C6:C17) -> 0
A27: Opomba: | B27: Prečrtane pozicije niso predment ponudbe

Sheet DZR
A1: PONUDBENI PREDRAČUN (OBR-6b)
A3: Faza projekta | B3: Dokumentacija za razpis (DZR) - GO in ZU ter rušitev
A5: Mapa števila | B5: Naslov mape | C5: Cene (EUR)
A6: 1 | B6: Načrt arhitekture | C6: 0
A7: 2 | B7: Načrt gradbenih konstrukcij | C7: 0
A8: 3 | B8: Načrt električnih inštalacij in električne opreme | C8: 0
A9: 4 | B9: Načrt strojnih inštalacij in strojne opreme | C9: 0
A10: 5/1 | B10: Načrt tehnologije - primarna oprema
A11: 5/2 | B11: Načrt tehnologije - sekundarna oprema (izdela investitor)
A12: 6 | B12: Načrt požarne varnosti | C12: 0
A13: 8 | B13: Načrt geodezije | C13: 0
A14: 10 | B14: Načrt krajinske arhitekture | C14: 0
B15: SKUPAJ | C15: =SUM(C6:C14) -> 0

Sheet PZI
A1: PONUDBENI PREDRAČUN (OBR-6b)
A3: Faza projekta | B3: Projekt za izvedbo (PZI)
A5: Mapa števila | B5: Naslov mape | C5: Cene (EUR)
A6: 0 | B6: Vodilna mapa | C6: 0
A7: 1 | B7: Načrt arhitekture | C7: 0
A8: 2 | B8: Načrt gradbenih konstrukcij | C8: 0
A9: 3 | B9: Načrt električnih inštalacij in električne opreme | C9: 0
A10: 4 | B10: Načrt strojnih inštalacij in strojne opreme | C10: 0
A11: 5/1 | B11: Načrt tehnologije - primarna oprema | C11: 0
A12: 5/2 | B12: Načrt tehnologije - sekundarna oprema (izdela investitor)
A13: 6 | B13: Načrt požarne varnosti | C13: 0
A14: 8 | B14: Načrt geodezije | C14: 0
A15: 10 | B15: Načrt krajinske arhitekture | C15: 0
B16: SKUPAJ | C16: =SUM(C6:C15) -> 0
A18: Elaborat številka | B18: Naslov elaborata
A19: 9 | B19: Varnostni načrt | C19: 0
A20: 10 | B20: Načrt ureditve gradbišča | C20: 0
B21: SKUPAJ | C21: =SUM(C19:C20) -> 0
B22: SKUPAJ | C22: =C16+C21 -> 0
A24: Opomba: | B24: Prečrtane pozicije niso predment ponudbe

Sheet PID
A1: PONUDBENI PREDRAČUN (OBR-6b)
A3: Faza projekta | B3: Projekt izvedenih del (PID)
A5: Mapa števila | B5: Naslov mape | C5: Cene (EUR)
A6: 0 | B6: Vodilna mapa | C6: 0
A7: 1 | B7: Načrt arhitekture | C7: 0
A8: 2 | B8: Načrt gradbenih konstrukcij | C8: 0
A9: 3 | B9: Načrt električnih inštalacij in električne opreme | C9: 0
A10: 4 | B10: Načrt strojnih inštalacij in strojne opreme | C10: 0
A11: 5/1 | B11: Načrt tehnologije - primarna oprema | C11: 0
A12: 5/2 | B12: Načrt tehnologije - sekundarna oprema (izdela investitor)
A13: 6 | B13: Načrt požarne varnosti | C13: 0
A14: 8 | B14: Načrt geodezije | C14: 0
A15: 10 | B15: Načrt krajinske arhitekture | C15: 0
B16: SKUPAJ | C16: =SUM(C6:C15) -> 0
A18: Elaborat številka | B18: Naslov elaborata
A19: 1 | B19: Geodetski posnetek končnega stanja | C19: 0
A20: =A19+1 -> 2 | B20: Izkaz požarne varnosti | C20: 0
A21: =A20+1 -> 3 | B21: Elaborat za vpis in izbris v kataster gospodarske javne infrastrukture | C21: 0
A22: =A21+1 -> 4 | B22: Energetska izkaznica | C22: 0
A23: =A22+1 -> 5 | B23: Poročilo o ravnanju z gradbenimi odpadki (izdela izvajalec objekta)
A24: =A23+1 -> 6 | B24: Navodila za obratovanje in vzdrževanje objekta - GO in ZU (izdela izvajalec objekta)
A25: =A24+1 -> 7 | B25: Navodilo za obratovanje in lokalno posluževanje objekta - tehnološke opreme (izdela investitor)
B26: SKUPAJ | C26: =SUM(C19:C25) -> 0
B27: SKUPAJ | C27: =C26+C16 -> 0
A29: Opomba: | B29: Prečrtane pozicije niso predment ponudbe

Sheet NADZOR
A1: PONUDBENI PREDRAČUN (OBR-6b)
A4: Storitev številka | B4: Storitev | C4: Cene (EUR)
A5: 1 | B5: Projektantski nadzor in sodelovanje v času gradnje (sprotna kontrola gradnje, tolmačenje načrtov, hitro, učinkovito in pravilno posredovanje rešitev, potrjevanje sprememb, po potrebi sodelovanje na operativnih sestankih, …). | C5: 0
A6: =A5+1 -> 2 | B6: Opravljanje funkcije VODJA PROJEKTA po ZAID za načrte, ki jih izdeluje investitor | C6: 0
B7: SKUPAJ | C7: =SUM(C5:C6) -> 0

Sheet TERMINSKI PLAN
A1: PONUDBENI PREDRAČUN (OBR-6b)
A3: FAZA GRADNJE | C3: TERMIN PREDAJE | D3: TRAJANJE DNI | E3: ŠT. PISNIH IZVODOV | F3: ŠT. ELEKTRONSKIH IZVODOV
A5: PODPIS POGODBE (PREDVIDOMA) | C5: 44493
A7: IDP | C7: 44523 | D7: 30 | E7: 4 | F7: 2
A8: IZP | C8: 44538 | D8: 15 | E8: 4 | F8: 2
A9: DGD | C9: 44583 | D9: 45 | E9: 4 | F9: 2
A11: PRIDOBITEV GD | C11: 44621 | D11: 38
A13: DZR | C13: 44651 | D13: 30 | E13: 4 | F13: 2
A14: PZI (GO, ZU, TO PRIMARNA) | C14: 44681 | D14: 30 | E14: 4 | F14: 2
A16: ZAČETEK GRADNJE PO FAZAH: | C16: 44713
A17: GO STAVBA→VGRADNJA TO→ZAGON NOV RP→RUŠITEV STAR RP→ZU
A18: KONEC GRADNJE | C18: 45200 | D18: 487
A20: PID | C20: 45230 | D20: 30 | E20: 4 | F20: 2
A21: NADZOR | C21: V FAZI IZVEDBE | D21: 692
A22: SKUPAJ: | D22: 737
A24: Planiran začetek del: | B24: 44493
A25: Planiran zaključek del: | B25: 45230
A27: Kraj, dne | B27: Direktor:
A29: Roki se brez posledic podalšajo če:
A30: - naročnik spremeni podatke, program dela ali se premeni obseg storitev,
A31: - izvajalec ne prejme pravočasno od naročnika ali tretje osebe potrjenih podlog, podatkov in pojasnil, ki so potrebni za pravilno izvršitev storitev,
A32: - naročnik oziroma tretja oseba pravočasno ne odobri skic, načrtov, planov itd., ki jih predloži izvajalec v odobritev, oziroma, če pravočasno ne dobi potrebnih odobritev pristojnih organov, ki so potrebne za nadaljnje delo,
A33: - med delom nastane potreba po spremembi storitev na zahtevo naročnika ali tretje osebe, ali da kakršnakoli situacija, ki je nastala med delom, zahteva spremembo rokov,
A34: - nov rok se določi sporazumno in pisno med sopogodbenikoma s tem, da v primeru od druge do četrte alineje te točke podaljšanje ne more biti krajše od trajanja razloga.
